BEGIN:VCALENDAR
VERSION:2.0
PRODID:-//LCBA - ECPv6.15.18//NONSGML v1.0//EN
CALSCALE:GREGORIAN
METHOD:PUBLISH
X-WR-CALNAME:LCBA
X-ORIGINAL-URL:https://littlechuteba.com
X-WR-CALDESC:Events for LCBA
REFRESH-INTERVAL;VALUE=DURATION:PT1H
X-Robots-Tag:noindex
X-PUBLISHED-TTL:PT1H
BEGIN:VTIMEZONE
TZID:America/Chicago
BEGIN:DAYLIGHT
TZOFFSETFROM:-0600
TZOFFSETTO:-0500
TZNAME:CDT
DTSTART:20250309T080000
END:DAYLIGHT
BEGIN:STANDARD
TZOFFSETFROM:-0500
TZOFFSETTO:-0600
TZNAME:CST
DTSTART:20251102T070000
END:STANDARD
BEGIN:DAYLIGHT
TZOFFSETFROM:-0600
TZOFFSETTO:-0500
TZNAME:CDT
DTSTART:20260308T080000
END:DAYLIGHT
BEGIN:STANDARD
TZOFFSETFROM:-0500
TZOFFSETTO:-0600
TZNAME:CST
DTSTART:20261101T070000
END:STANDARD
BEGIN:DAYLIGHT
TZOFFSETFROM:-0600
TZOFFSETTO:-0500
TZNAME:CDT
DTSTART:20270314T080000
END:DAYLIGHT
BEGIN:STANDARD
TZOFFSETFROM:-0500
TZOFFSETTO:-0600
TZNAME:CST
DTSTART:20271107T070000
END:STANDARD
END:VTIMEZONE
BEGIN:VEVENT
DTSTART;TZID=America/Chicago:20260521T083000
DTEND;TZID=America/Chicago:20260521T093000
DTSTAMP:20260423T064928
CREATED:20260114T165502Z
LAST-MODIFIED:20260114T165502Z
UID:5398-1779352200-1779355800@littlechuteba.com
SUMMARY:May 2026 Monthly Meeting
DESCRIPTION:Join fellow business members for our monthly LCBA meeting. These gatherings are a great opportunity to connect with other local businesses\, share updates\, and collaborate on initiatives that support our growing business community in Little Chute. Each meeting features relevant discussion topics\, LCBA news\, and opportunities to get involved. \nThis Month’s Topic: TBD \nDo you have a topic you want to see presented? Share it with us! \nMeeting Agenda:  \nWho Should Attend:All LCBA members\, prospective members\, and local business leaders interested in fostering community and business development in the Village of Little Chute.
URL:https://littlechuteba.com/event/may-2026-monthly-meeting/
LOCATION:TBD
CATEGORIES:Monthly Meeting
ATTACH;FMTTYPE=image/jpeg:https://littlechuteba.com/wp-content/uploads/2021/11/investors-mega-background.jpg
ORGANIZER;CN="Little Chute Business Association":MAILTO:info@littlechuteba.com
END:VEVENT
BEGIN:VEVENT
DTSTART;TZID=America/Chicago:20260618T083000
DTEND;TZID=America/Chicago:20260618T093000
DTSTAMP:20260423T064928
CREATED:20260114T165644Z
LAST-MODIFIED:20260114T165644Z
UID:5401-1781771400-1781775000@littlechuteba.com
SUMMARY:June 2026 Monthly Meeting
DESCRIPTION:Join fellow business members for our monthly LCBA meeting. These gatherings are a great opportunity to connect with other local businesses\, share updates\, and collaborate on initiatives that support our growing business community in Little Chute. Each meeting features relevant discussion topics\, LCBA news\, and opportunities to get involved. \nThis Month’s Topic: TBD \nDo you have a topic you want to see presented? Share it with us! \nMeeting Agenda:  \nWho Should Attend:All LCBA members\, prospective members\, and local business leaders interested in fostering community and business development in the Village of Little Chute.
URL:https://littlechuteba.com/event/june-2026-monthly-meeting-2/
LOCATION:TBD
CATEGORIES:Monthly Meeting
ATTACH;FMTTYPE=image/jpeg:https://littlechuteba.com/wp-content/uploads/2025/09/ai.jpg
ORGANIZER;CN="Little Chute Business Association":MAILTO:info@littlechuteba.com
END:VEVENT
BEGIN:VEVENT
DTSTART;TZID=America/Chicago:20260716T083000
DTEND;TZID=America/Chicago:20260716T093000
DTSTAMP:20260423T064928
CREATED:20260114T165801Z
LAST-MODIFIED:20260114T165801Z
UID:5404-1784190600-1784194200@littlechuteba.com
SUMMARY:July 2026 Monthly Meeting
DESCRIPTION:Join fellow business members for our monthly LCBA meeting. These gatherings are a great opportunity to connect with other local businesses\, share updates\, and collaborate on initiatives that support our growing business community in Little Chute. Each meeting features relevant discussion topics\, LCBA news\, and opportunities to get involved. \nThis Month’s Topic: TBD \nDo you have a topic you want to see presented? Share it with us! \nMeeting Agenda:  \nWho Should Attend:All LCBA members\, prospective members\, and local business leaders interested in fostering community and business development in the Village of Little Chute.
URL:https://littlechuteba.com/event/july-2026-monthly-meeting/
LOCATION:TBD
CATEGORIES:Monthly Meeting
ATTACH;FMTTYPE=image/jpeg:https://littlechuteba.com/wp-content/uploads/2021/11/banner-11.jpg
ORGANIZER;CN="Little Chute Business Association":MAILTO:info@littlechuteba.com
END:VEVENT
BEGIN:VEVENT
DTSTART;TZID=America/Chicago:20260820T083000
DTEND;TZID=America/Chicago:20260820T093000
DTSTAMP:20260423T064928
CREATED:20260114T165918Z
LAST-MODIFIED:20260114T165918Z
UID:5407-1787214600-1787218200@littlechuteba.com
SUMMARY:August 2026 Monthly Meeting
DESCRIPTION:Join fellow business members for our monthly LCBA meeting. These gatherings are a great opportunity to connect with other local businesses\, share updates\, and collaborate on initiatives that support our growing business community in Little Chute. Each meeting features relevant discussion topics\, LCBA news\, and opportunities to get involved. \nThis Month’s Topic: TBD \nDo you have a topic you want to see presented? Share it with us! \nMeeting Agenda:  \nWho Should Attend:All LCBA members\, prospective members\, and local business leaders interested in fostering community and business development in the Village of Little Chute.
URL:https://littlechuteba.com/event/august-2026-monthly-meeting-2/
LOCATION:TBD
CATEGORIES:Monthly Meeting
ATTACH;FMTTYPE=image/jpeg:https://littlechuteba.com/wp-content/uploads/2021/11/31.jpg
ORGANIZER;CN="Little Chute Business Association":MAILTO:info@littlechuteba.com
END:VEVENT
BEGIN:VEVENT
DTSTART;TZID=America/Chicago:20260917T083000
DTEND;TZID=America/Chicago:20260917T093000
DTSTAMP:20260423T064928
CREATED:20260114T170038Z
LAST-MODIFIED:20260114T170038Z
UID:5410-1789633800-1789637400@littlechuteba.com
SUMMARY:September 2026 Monthly Meeting
DESCRIPTION:Join fellow business members for our monthly LCBA meeting. These gatherings are a great opportunity to connect with other local businesses\, share updates\, and collaborate on initiatives that support our growing business community in Little Chute. Each meeting features relevant discussion topics\, LCBA news\, and opportunities to get involved. \nThis Month’s Topic: TBD \nDo you have a topic you want to see presented? Share it with us! \nMeeting Agenda:  \nWho Should Attend:All LCBA members\, prospective members\, and local business leaders interested in fostering community and business development in the Village of Little Chute.
URL:https://littlechuteba.com/event/september-2026-monthly-meeting/
LOCATION:TBD
CATEGORIES:Monthly Meeting
ATTACH;FMTTYPE=image/jpeg:https://littlechuteba.com/wp-content/uploads/2016/01/8.jpg
ORGANIZER;CN="Little Chute Business Association":MAILTO:info@littlechuteba.com
END:VEVENT
BEGIN:VEVENT
DTSTART;TZID=America/Chicago:20261015T083000
DTEND;TZID=America/Chicago:20261015T093000
DTSTAMP:20260423T064928
CREATED:20260114T170251Z
LAST-MODIFIED:20260114T170251Z
UID:5413-1792053000-1792056600@littlechuteba.com
SUMMARY:October 2026 Monthly Meeting
DESCRIPTION:Join fellow business members for our monthly LCBA meeting. These gatherings are a great opportunity to connect with other local businesses\, share updates\, and collaborate on initiatives that support our growing business community in Little Chute. Each meeting features relevant discussion topics\, LCBA news\, and opportunities to get involved. \nThis Month’s Topic: TBD \nDo you have a topic you want to see presented? Share it with us! \nMeeting Agenda:  \nWho Should Attend:All LCBA members\, prospective members\, and local business leaders interested in fostering community and business development in the Village of Little Chute.
URL:https://littlechuteba.com/event/october-2026-monthly-meeting-2/
LOCATION:TBD
CATEGORIES:Monthly Meeting
ATTACH;FMTTYPE=image/jpeg:https://littlechuteba.com/wp-content/uploads/2016/01/10.jpg
ORGANIZER;CN="Little Chute Business Association":MAILTO:info@littlechuteba.com
END:VEVENT
BEGIN:VEVENT
DTSTART;TZID=America/Chicago:20261119T083000
DTEND;TZID=America/Chicago:20261119T093000
DTSTAMP:20260423T064928
CREATED:20260114T170422Z
LAST-MODIFIED:20260114T170422Z
UID:5416-1795077000-1795080600@littlechuteba.com
SUMMARY:November 2026 Monthly Meeting
DESCRIPTION:Join fellow business members for our monthly LCBA meeting. These gatherings are a great opportunity to connect with other local businesses\, share updates\, and collaborate on initiatives that support our growing business community in Little Chute. Each meeting features relevant discussion topics\, LCBA news\, and opportunities to get involved. \nThis Month’s Topic: TBD \nDo you have a topic you want to see presented? Share it with us! \nMeeting Agenda:  \nWho Should Attend:All LCBA members\, prospective members\, and local business leaders interested in fostering community and business development in the Village of Little Chute.
URL:https://littlechuteba.com/event/november-2026-monthly-meeting/
LOCATION:TBD
CATEGORIES:Monthly Meeting
ATTACH;FMTTYPE=image/png:https://littlechuteba.com/wp-content/uploads/2021/11/corporate-governance.png
ORGANIZER;CN="Little Chute Business Association":MAILTO:info@littlechuteba.com
END:VEVENT
BEGIN:VEVENT
DTSTART;TZID=America/Chicago:20261217T083000
DTEND;TZID=America/Chicago:20261217T093000
DTSTAMP:20260423T064928
CREATED:20260114T170528Z
LAST-MODIFIED:20260114T170528Z
UID:5419-1797496200-1797499800@littlechuteba.com
SUMMARY:December 2026 Monthly Meeting
DESCRIPTION:Join fellow business members for our monthly LCBA meeting. These gatherings are a great opportunity to connect with other local businesses\, share updates\, and collaborate on initiatives that support our growing business community in Little Chute. Each meeting features relevant discussion topics\, LCBA news\, and opportunities to get involved. \nThis Month’s Topic: TBD \nDo you have a topic you want to see presented? Share it with us! \nMeeting Agenda:  \nWho Should Attend:All LCBA members\, prospective members\, and local business leaders interested in fostering community and business development in the Village of Little Chute.
URL:https://littlechuteba.com/event/december-2026-monthly-meeting-2/
LOCATION:TBD
CATEGORIES:Monthly Meeting
ATTACH;FMTTYPE=image/jpeg:https://littlechuteba.com/wp-content/uploads/2025/09/gift.jpg
ORGANIZER;CN="Little Chute Business Association":MAILTO:info@littlechuteba.com
END:VEVENT
END:VCALENDAR